View In:
ArcGIS JavaScript
ArcGIS Online Map Viewer
ArcGIS Earth
ArcGIS Pro
Service Description:
Map Name: Roads & Driveways
Legend
All Layers and Tables
Layers:
Description:
Service Item Id: 7c5d4e9ae3b34950b315358acbd60221
Copyright Text:
Spatial Reference:
102100
(3857)
Single Fused Map Cache: true
Tile Info:
- Height: 512.0
- Width: 512.0
- DPI: 96.0
-
Levels of Detail: 23
-
Level ID: 0
[ Start Tile, End Tile ]
- Resolution: 78271.5169639999949
- Scale: 295828763.795777261
-
Level ID: 1
[ Start Tile, End Tile ]
- Resolution: 39135.7584819999465
- Scale: 147914381.897888422
-
Level ID: 2
[ Start Tile, End Tile ]
- Resolution: 19567.87924100005
- Scale: 73957190.948944509
-
Level ID: 3
[ Start Tile, End Tile ]
- Resolution: 9783.93962049995025
- Scale: 36978595.4744719714
-
Level ID: 4
[ Start Tile, End Tile ]
- Resolution: 4891.96981024997967
- Scale: 18489297.7372360006
-
Level ID: 5
[ Start Tile, End Tile ]
- Resolution: 2445.98490512498984
- Scale: 9244648.8686180003
-
Level ID: 6
[ Start Tile, End Tile ]
- Resolution: 1222.99245256249492
- Scale: 4622324.43430900015
-
Level ID: 7
[ Start Tile, End Tile ]
- Resolution: 611.496226281244958
- Scale: 2311162.21715449076
-
Level ID: 8
[ Start Tile, End Tile ]
- Resolution: 305.748113140690009
- Scale: 1155581.10857750056
-
Level ID: 9
[ Start Tile, End Tile ]
- Resolution: 152.874056570279009
- Scale: 577790.55428850092
-
Level ID: 10
[ Start Tile, End Tile ]
- Resolution: 76.4370282852055
- Scale: 288895.27714449988
-
Level ID: 11
[ Start Tile, End Tile ]
- Resolution: 38.218514142536598
- Scale: 144447.638571999909
-
Level ID: 12
[ Start Tile, End Tile ]
- Resolution: 19.109257071268299
- Scale: 72223.8192859999544
-
Level ID: 13
[ Start Tile, End Tile ]
- Resolution: 9.5546285356341496
- Scale: 36111.9096429999772
-
Level ID: 14
[ Start Tile, End Tile ]
- Resolution: 4.7773142678170748
- Scale: 18055.9548214999886
-
Level ID: 15
[ Start Tile, End Tile ]
- Resolution: 2.3886571339746849
- Scale: 9027.97741099999985
-
Level ID: 16
[ Start Tile, End Tile ]
- Resolution: 1.19432856698734
- Scale: 4513.98870549999083
-
Level ID: 17
[ Start Tile, End Tile ]
- Resolution: 0.59716428342752503
- Scale: 2256.99435249999942
-
Level ID: 18
[ Start Tile, End Tile ]
- Resolution: 0.29858214177990849
- Scale: 1128.4971764999998
-
Level ID: 19
[ Start Tile, End Tile ]
- Resolution: 0.14929107082380849
- Scale: 564.248588000000609
-
Level ID: 20
[ Start Tile, End Tile ]
- Resolution: 0.074645535411904163
- Scale: 282.12429400000002
-
Level ID: 21
[ Start Tile, End Tile ]
- Resolution: 0.037322767705952081
- Scale: 141.06214700000001
-
Level ID: 22
[ Start Tile, End Tile ]
- Resolution: 0.018661383852976041
- Scale: 70.531073500000005
- Format: PNG
- Compression Quality: 0.0
- Origin: X: -2.0037508342787E7
Y: 2.0037508342787E7
- Spatial Reference: 102100
(3857)
Storage Info:
- Storage Format: esriMapCacheStorageModeCompactV2
- Packet Size: 128
Initial Extent:
XMin: -8838130.414607154
YMin: 4802187.950307367
XMax: -8837772.790156512
YMax: 4803886.666447917
Spatial Reference: 102100
Full Extent:
XMin: -8851550.699268067
YMin: 4750125.842836806
XMax: -8783498.343623625
YMax: 4827918.690502658
Spatial Reference: 102100
Units: esriMeters
Supported Image Format Types: PNG32,PNG24,PNG,JPG,DIB,TIFF,EMF,PS,PDF,GIF,SVG,SVGZ,BMP
Document Info:
Title: Map1
Author:
Comments:
Subject:
Category:
Keywords:
AntialiasingMode: Fast
TextAntialiasingMode: Force
Supports Dynamic Layers: false
MaxRecordCount: 1000
MaxSelectionCount: 0
MaxImageHeight: 4096
MaxImageWidth: 4096
Supported Query Formats: JSON, geoJSON, PBF
Supports Query Data Elements: true
Min Scale: 577790.55428850092
Max Scale: 9027.97741099999985
Min LOD: 9
Max LOD: 15
Supports Datum Transformation: true
Child Resources:
Info
Supported Operations:
QueryLegends
Return Updates