View In:
ArcGIS JavaScript
ArcGIS Online Map Viewer
ArcGIS Earth
Service Description: Imagery/Garrett_Imagery2023
Name: Imagery/Garrett_Imagery2023
Description:
Single Fused Map Cache: false
Extent:
XMin: 604000.0
YMin: 567000.0
XMax: 778000.0
YMax: 759000.0
Spatial Reference: 103069
(6488)
Initial Extent:
XMin: 604000.0
YMin: 567000.0
XMax: 778000.0
YMax: 759000.0
Spatial Reference: 103069
(6488)
Full Extent:
XMin: 604000.0
YMin: 567000.0
XMax: 778000.0
YMax: 759000.0
Spatial Reference: 103069
(6488)
Pixel Size X: 0.5
Pixel Size Y: 0.5
Band Count: 5
Pixel Type: U8
RasterFunction Infos: {"rasterFunctionInfos": [{
"help": "",
"name": "None",
"description": ""
}]}
Mensuration Capabilities: Basic
Inspection Capabilities:
Has Histograms: true
Has Colormap: false
Has Multi Dimensions : false
Rendering Rule:
Min Scale: 0
Max Scale: 0
Copyright Text:
Service Data Type: esriImageServiceDataTypeGeneric
Min Values: 0, 0, 0, 0, 0
Max Values: 255, 255, 255, 255, 255
Mean Values: 155.27321652065001, 151.90000000000001, 148.92878598248001, 194.11989987484, 159.37346683353999
Standard Deviation Values: 79.892014547936, 81.458449446529002, 82.658543741526003, 51.351961227322001, 122.4420618906
Object ID Field:
Fields:
None
Default Mosaic Method: Center
Allowed Mosaic Methods:
SortField:
SortValue: N/A
Mosaic Operator: First
Default Compression Quality: 75
Default Resampling Method: Bilinear
Max Record Count: null
Max Image Height: 4100
Max Image Width: 15000
Max Download Image Count: null
Max Mosaic Image Count: null
Allow Raster Function: true
Allow Copy: true
Allow Analysis: true
Allow Compute TiePoints: false
Supports Statistics: false
Supports Advanced Queries: false
Use StandardizedQueries: false
Raster Type Infos:
Name: Raster Dataset
Description: Supports all ArcGIS Raster Datasets
Help:
Has Raster Attribute Table: false
Edit Fields Info: N/A
Ownership Based AccessControl For Rasters: N/A
Child Resources:
Info
Histograms
Statistics
Key Properties
Legend
Raster Function Infos
Supported Operations:
Export Image
Identify
Measure
Compute Histograms
Compute Statistics Histograms
Get Samples
Compute Class Statistics
Query Boundary
Compute Pixel Location
Compute Angles
Validate
Project